BEGIN:VCALENDAR
VERSION:2.0
PRODID:www.localdojo.com
BEGIN:VEVENT
UID:69e69a8de2d1f
DTSTART;TZID=Europe/Prague:20260427T063000
SEQUENCE:0
TRANSP:OPAQUE
DTEND;TZID=Europe/Prague:20260427T080000
URL:https://www.localdojo.com/br/academia-coliseu
LOCATION:Av. Senador José Lourenço Dias\, 475 \, Anápolis\, 75020010\, B
 razil
SUMMARY:Academia Coliseu - adults juvenilo
CLASS:PUBLIC
DESCRIPTION:adults juvenilo
RRULE:FREQ=WEEKLY;INTERVAL=1
DTSTAMP:20260420T212845Z
END:VEVENT
END:VCALENDAR