BEGIN:VCALENDAR
VERSION:2.0
PRODID:www.localdojo.com
BEGIN:VEVENT
UID:69e639ad5bd41
DTSTART;TZID=Europe/Prague:20260422T200000
SEQUENCE:0
TRANSP:OPAQUE
DTEND;TZID=Europe/Prague:20260422T210000
URL:https://www.localdojo.com/br/b-clan-jiu-jitsu
LOCATION:Av Joubert de Barros 680\, Vitória\, 29050720\, Brazil
SUMMARY:B-Clan Jiu-Jitsu
CLASS:PUBLIC
RRULE:FREQ=WEEKLY;INTERVAL=1
DTSTAMP:20260420T143525Z
END:VEVENT
END:VCALENDAR