BEGIN:VCALENDAR
VERSION:2.0
PRODID:www.localdojo.com
BEGIN:VEVENT
UID:69e639aed59de
DTSTART;TZID=Europe/Prague:20260423T083000
SEQUENCE:0
TRANSP:OPAQUE
DTEND;TZID=Europe/Prague:20260423T100000
URL:https://www.localdojo.com/br/b-clan-jiu-jitsu
LOCATION:Av Joubert de Barros 680\, Vitória\, 29050720\, Brazil
SUMMARY:B-Clan Jiu-Jitsu - luta olimpica
CLASS:PUBLIC
DESCRIPTION:luta olimpica
RRULE:FREQ=WEEKLY;INTERVAL=1
DTSTAMP:20260420T143526Z
END:VEVENT
END:VCALENDAR