BEGIN:VCALENDAR
VERSION:2.0
PRODID:www.localdojo.com
BEGIN:VEVENT
UID:69e641c0444d6
DTSTART;TZID=America/Sao_Paulo:20260424T203000
SEQUENCE:0
TRANSP:OPAQUE
DTEND;TZID=America/Sao_Paulo:20260424T213000
URL:https://www.localdojo.com/br/koral-fight-team
LOCATION:Av. Aratãs\, 132 - Moema\, Sao Paulo\, 65055343\, Brazil
X-APPLE-STRUCTURED-LOCATION;VALUE=URI;X-ADDRESS="Av. Aratãs, 132 - Moema, 
 Sao Paulo, 65055343, Brazil";X-APPLE-RADIUS=49;X-TITLE=Koral Fight Team:ge
 o:-23.608057,-46.664627
GEO:-23.608057;-46.664627
SUMMARY:Koral Fight Team - adults
CLASS:PUBLIC
DESCRIPTION:adults
RRULE:FREQ=WEEKLY;INTERVAL=1
DTSTAMP:20260420T150952Z
END:VEVENT
END:VCALENDAR