BEGIN:VCALENDAR
VERSION:2.0
PRODID:www.localdojo.com
BEGIN:VEVENT
UID:69e5e1f8e7599
DTSTART;TZID=Europe/Prague:20260421T090000
SEQUENCE:0
TRANSP:OPAQUE
DTEND;TZID=Europe/Prague:20260421T103000
URL:https://www.localdojo.com/br/pslpb-cicero-costha
LOCATION:Rua Lino Coutinho 426\, Sao Paulo\, 4207000\, Brazil
SUMMARY:PSLPB Cicero Costha - females
CLASS:PUBLIC
DESCRIPTION:females
RRULE:FREQ=WEEKLY;INTERVAL=1
DTSTAMP:20260420T082112Z
END:VEVENT
END:VCALENDAR