BEGIN:VCALENDAR
VERSION:2.0
PRODID:www.localdojo.com
BEGIN:VEVENT
UID:69e69905bd4b3
DTSTART;TZID=Europe/Prague:20260422T210000
SEQUENCE:0
TRANSP:OPAQUE
DTEND;TZID=Europe/Prague:20260422T223000
URL:https://www.localdojo.com/br/pslpb-cicero-costha
LOCATION:Rua Lino Coutinho 426\, Sao Paulo\, 4207000\, Brazil
SUMMARY:PSLPB Cicero Costha - adults
CLASS:PUBLIC
DESCRIPTION:adults
RRULE:FREQ=WEEKLY;INTERVAL=1
DTSTAMP:20260420T212213Z
END:VEVENT
END:VCALENDAR