BEGIN:VCALENDAR
VERSION:2.0
PRODID:www.localdojo.com
BEGIN:VEVENT
UID:69e50d48a867c
DTSTART;TZID=Europe/Prague:20260424T190000
SEQUENCE:0
TRANSP:OPAQUE
DTEND;TZID=Europe/Prague:20260424T203000
URL:https://www.localdojo.com/br/pslpb-cicero-costha
LOCATION:Rua Lino Coutinho 426\, Sao Paulo\, 4207000\, Brazil
SUMMARY:PSLPB Cicero Costha - treino sem kimono
CLASS:PUBLIC
DESCRIPTION:treino sem kimono
RRULE:FREQ=WEEKLY;INTERVAL=1
DTSTAMP:20260419T171344Z
END:VEVENT
END:VCALENDAR