BEGIN:VCALENDAR
VERSION:2.0
PRODID:www.localdojo.com
BEGIN:VEVENT
UID:69e5d9c1c46a0
DTSTART;TZID=Europe/Prague:20260423T163000
SEQUENCE:0
TRANSP:OPAQUE
DTEND;TZID=Europe/Prague:20260423T173000
URL:https://www.localdojo.com/br/toro-gym-jiu-jitsu
LOCATION:Rua Dr. Celso Gama\, 118\, Santo André\, 9030020\, Brazil
SUMMARY:Toro Gym Jiu-Jitsu - bjj
CLASS:PUBLIC
DESCRIPTION:bjj
RRULE:FREQ=WEEKLY;INTERVAL=1
DTSTAMP:20260420T074609Z
END:VEVENT
END:VCALENDAR