BEGIN:VCALENDAR
VERSION:2.0
PRODID:www.localdojo.com
BEGIN:VEVENT
UID:69e5299cad595
DTSTART;TZID=Europe/Prague:20260424T070000
SEQUENCE:0
TRANSP:OPAQUE
DTEND;TZID=Europe/Prague:20260424T080000
URL:https://www.localdojo.com/br/toro-gym-jiu-jitsu
LOCATION:Rua Dr. Celso Gama\, 118\, Santo André\, 9030020\, Brazil
SUMMARY:Toro Gym Jiu-Jitsu - bjj
CLASS:PUBLIC
DESCRIPTION:bjj
RRULE:FREQ=WEEKLY;INTERVAL=1
DTSTAMP:20260419T191436Z
END:VEVENT
END:VCALENDAR