BEGIN:VCALENDAR
VERSION:2.0
PRODID:www.localdojo.com
BEGIN:VEVENT
UID:69e605997f87d
DTSTART;TZID=Europe/Prague:20260424T190000
SEQUENCE:0
TRANSP:OPAQUE
DTEND;TZID=Europe/Prague:20260424T200000
URL:https://www.localdojo.com/br/toro-gym-jiu-jitsu
LOCATION:Rua Dr. Celso Gama\, 118\, Santo André\, 9030020\, Brazil
SUMMARY:Toro Gym Jiu-Jitsu - muay thai
CLASS:PUBLIC
DESCRIPTION:muay thai
RRULE:FREQ=WEEKLY;INTERVAL=1
DTSTAMP:20260420T105313Z
END:VEVENT
END:VCALENDAR