BEGIN:VCALENDAR
VERSION:2.0
PRODID:www.localdojo.com
BEGIN:VEVENT
UID:69e5d490141d3
DTSTART;TZID=Europe/Prague:20260421T190000
SEQUENCE:0
TRANSP:OPAQUE
DTEND;TZID=Europe/Prague:20260421T210000
URL:https://www.localdojo.com/cz/ac-dairokan-usti-nad-labem
LOCATION:Vaníčkova 9\, Ústí nad Labem\, 400 01\, Czech Republic
X-APPLE-STRUCTURED-LOCATION;VALUE=URI;X-ADDRESS="Vaníčkova 9, Ústí nad 
 Labem, 400 01, Czech Republic";X-APPLE-RADIUS=49;X-TITLE=AC Dairokan Úst
 í nad Labem:geo:50.660315,14.033587
GEO:50.660315;14.033587
SUMMARY:AC Dairokan Ústí nad Labem
CLASS:PUBLIC
RRULE:FREQ=WEEKLY;INTERVAL=1
DTSTAMP:20260420T072400Z
END:VEVENT
END:VCALENDAR