BEGIN:VCALENDAR
VERSION:2.0
PRODID:www.localdojo.com
BEGIN:VEVENT
UID:69e671dfeffee
DTSTART;TZID=Europe/Prague:20260423T190000
SEQUENCE:0
TRANSP:OPAQUE
DTEND;TZID=Europe/Prague:20260423T203000
URL:https://www.localdojo.com/cz/ac-kralupy
LOCATION:Smetanova 168\, Kralupy nad Vltavou\, 278 01\, Czech Republic
X-APPLE-STRUCTURED-LOCATION;VALUE=URI;X-ADDRESS="Smetanova 168, Kralupy nad
  Vltavou, 278 01, Czech Republic";X-APPLE-RADIUS=49;X-TITLE=AC Kralupy:geo
 :50.241221,14.309318
GEO:50.241221;14.309318
SUMMARY:AC Kralupy - Dospělí
CLASS:PUBLIC
DESCRIPTION:Dospělí
RRULE:FREQ=WEEKLY;INTERVAL=1
DTSTAMP:20260420T183512Z
END:VEVENT
END:VCALENDAR