BEGIN:VCALENDAR
VERSION:2.0
PRODID:www.localdojo.com
BEGIN:VEVENT
UID:69e58db9323ef
DTSTART;TZID=Europe/Prague:20260424T183000
SEQUENCE:0
TRANSP:OPAQUE
DTEND;TZID=Europe/Prague:20260424T200000
URL:https://www.localdojo.com/cz/aikido-boskovice
LOCATION:Sušilova 28\, Boskovice\, 680 01\, Czech Republic
SUMMARY:Aikido Boskovice - Dospělí (15+ let)
CLASS:PUBLIC
DESCRIPTION:Dospělí (15+ let)
RRULE:FREQ=WEEKLY;INTERVAL=1
DTSTAMP:20260420T022145Z
END:VEVENT
END:VCALENDAR