BEGIN:VCALENDAR
VERSION:2.0
PRODID:www.localdojo.com
BEGIN:VEVENT
UID:69e51c5056598
DTSTART;TZID=Europe/Prague:20260421T170000
SEQUENCE:0
TRANSP:OPAQUE
DTEND;TZID=Europe/Prague:20260421T180000
URL:https://www.localdojo.com/cz/aikido-domazlice
LOCATION:Komenského 17\, Domažlice\, 344 31\, Czech Republic
SUMMARY:Aikido Domažlice - starší žáci a dospělí
CLASS:PUBLIC
DESCRIPTION:starší žáci a dospělí
RRULE:FREQ=WEEKLY;INTERVAL=1
DTSTAMP:20260419T181752Z
END:VEVENT
END:VCALENDAR