BEGIN:VCALENDAR
VERSION:2.0
PRODID:www.localdojo.com
BEGIN:VEVENT
UID:69e4e29f61f3b
DTSTART;TZID=Europe/Prague:20260420T190000
SEQUENCE:0
TRANSP:OPAQUE
DTEND;TZID=Europe/Prague:20260420T195500
URL:https://www.localdojo.com/cz/aikido-karlin
LOCATION:Křižíkova 48\, Praha 8\, 186 00\, Czech Republic
SUMMARY:Aikido Karlín - Pokročilí
CLASS:PUBLIC
DESCRIPTION:Pokročilí
RRULE:FREQ=WEEKLY;INTERVAL=1
DTSTAMP:20260419T141143Z
END:VEVENT
END:VCALENDAR