BEGIN:VCALENDAR
VERSION:2.0
PRODID:www.localdojo.com
BEGIN:VEVENT
UID:69e4d195cfe3d
DTSTART;TZID=Europe/Prague:20260424T190000
SEQUENCE:0
TRANSP:OPAQUE
DTEND;TZID=Europe/Prague:20260424T195500
URL:https://www.localdojo.com/cz/aikido-karlin
LOCATION:Křižíkova 48\, Praha 8\, 186 00\, Czech Republic
SUMMARY:Aikido Karlín - Začátečníci
CLASS:PUBLIC
DESCRIPTION:Začátečníci
RRULE:FREQ=WEEKLY;INTERVAL=1
DTSTAMP:20260419T125901Z
END:VEVENT
END:VCALENDAR