BEGIN:VCALENDAR
VERSION:2.0
PRODID:www.localdojo.com
BEGIN:VEVENT
UID:69e67eeaeca33
DTSTART;TZID=Europe/Prague:20260422T170000
SEQUENCE:0
TRANSP:OPAQUE
DTEND;TZID=Europe/Prague:20260422T180000
URL:https://www.localdojo.com/cz/aikido-sekai-dojo
LOCATION:Křenova 11\, Praha 6\, 162 00\, Czech Republic
X-APPLE-STRUCTURED-LOCATION;VALUE=URI;X-ADDRESS="Křenova 11, Praha 6, 162 
 00, Czech Republic";X-APPLE-RADIUS=49;X-TITLE=Aikido Sekai Dojo:geo:50.089
 127,14.344269
GEO:50.089127;14.344269
SUMMARY:Aikido Sekai Dojo - Děti
CLASS:PUBLIC
DESCRIPTION:Děti
RRULE:FREQ=WEEKLY;INTERVAL=1
DTSTAMP:20260420T193050Z
END:VEVENT
END:VCALENDAR