BEGIN:VCALENDAR
VERSION:2.0
PRODID:www.localdojo.com
BEGIN:VEVENT
UID:69e5c5703acfa
DTSTART;TZID=Europe/Prague:20260426T170000
SEQUENCE:0
TRANSP:OPAQUE
DTEND;TZID=Europe/Prague:20260426T180000
URL:https://www.localdojo.com/cz/aikido-uvaly
LOCATION:Náměstí Arnošta z Pardubic 8\, Úvaly u Prahy\, 250 82\, Czech
  Republic
X-APPLE-STRUCTURED-LOCATION;VALUE=URI;X-ADDRESS="Náměstí Arnošta z Pard
 ubic 8, Úvaly u Prahy, 250 82, Czech Republic";X-APPLE-RADIUS=49;X-TITLE=
 Aikido Úvaly:geo:50.074274,14.730996
GEO:50.074274;14.730996
SUMMARY:Aikido Úvaly - děti ve věku 6-14 let
CLASS:PUBLIC
DESCRIPTION:děti ve věku 6-14 let
RRULE:FREQ=WEEKLY;INTERVAL=1
DTSTAMP:20260420T061928Z
END:VEVENT
END:VCALENDAR