BEGIN:VCALENDAR
VERSION:2.0
PRODID:www.localdojo.com
BEGIN:VEVENT
UID:69e605a30a29c
DTSTART;TZID=Europe/Prague:20260422T153000
SEQUENCE:0
TRANSP:OPAQUE
DTEND;TZID=Europe/Prague:20260422T163000
URL:https://www.localdojo.com/cz/fudokan-karate-brno
LOCATION:Otevřená 20a\, Brno - Žebětín\, 641 00\, Czech Republic
SUMMARY:Fudokan Karate Brno - DĚTI - začátečníci
CLASS:PUBLIC
DESCRIPTION:DĚTI - začátečníci
RRULE:FREQ=WEEKLY;INTERVAL=1
DTSTAMP:20260420T105323Z
END:VEVENT
END:VCALENDAR