BEGIN:VCALENDAR
VERSION:2.0
PRODID:www.localdojo.com
BEGIN:VEVENT
UID:69e5703e8bb65
DTSTART;TZID=Europe/Prague:20260423T163000
SEQUENCE:0
TRANSP:OPAQUE
DTEND;TZID=Europe/Prague:20260423T180000
URL:https://www.localdojo.com/cz/fudokan-karate-brno
LOCATION:Otevřená 20a\, Brno - Žebětín\, 641 00\, Czech Republic
SUMMARY:Fudokan Karate Brno - DĚTI - pokročilí
CLASS:PUBLIC
DESCRIPTION:DĚTI - pokročilí
RRULE:FREQ=WEEKLY;INTERVAL=1
DTSTAMP:20260420T001558Z
END:VEVENT
END:VCALENDAR