BEGIN:VCALENDAR
VERSION:2.0
PRODID:www.localdojo.com
BEGIN:VEVENT
UID:69e513df48f09
DTSTART;TZID=Europe/Prague:20260424T180000
SEQUENCE:0
TRANSP:OPAQUE
DTEND;TZID=Europe/Prague:20260424T193000
URL:https://www.localdojo.com/cz/jc-andel
LOCATION:ZŠ Kuncova\, Praha 5\, 150 00\, Czech Republic
X-APPLE-STRUCTURED-LOCATION;VALUE=URI;X-ADDRESS="ZŠ Kuncova, Praha 5, 150 
 00, Czech Republic";X-APPLE-RADIUS=49;X-TITLE=JC Anděl:geo:50.049237,14.3
 11032
GEO:50.049237;14.311032
SUMMARY:JC Anděl - judo pro dospělé ZŠ Kořenského
CLASS:PUBLIC
DESCRIPTION:judo pro dospělé ZŠ Kořenského
RRULE:FREQ=WEEKLY;INTERVAL=1
DTSTAMP:20260419T174151Z
END:VEVENT
END:VCALENDAR