BEGIN:VCALENDAR
VERSION:2.0
PRODID:www.localdojo.com
BEGIN:VEVENT
UID:69e641c0b80be
DTSTART;TZID=Europe/Prague:20260421T180000
SEQUENCE:0
TRANSP:OPAQUE
DTEND;TZID=Europe/Prague:20260421T190000
URL:https://www.localdojo.com/cz/jc-litokan-litomerice
LOCATION:Sovova 2\, Litoměřice\, 412 01\, Czech Republic
X-APPLE-STRUCTURED-LOCATION;VALUE=URI;X-ADDRESS="Sovova 2, Litoměřice, 41
 2 01, Czech Republic";X-APPLE-RADIUS=49;X-TITLE=JC Litokan Litoměřice:ge
 o:50.536818,14.131594
GEO:50.536818;14.131594
SUMMARY:JC Litokan Litoměřice - starší žactvo + dorost
CLASS:PUBLIC
DESCRIPTION:starší žactvo + dorost
RRULE:FREQ=WEEKLY;INTERVAL=1
DTSTAMP:20260420T150952Z
END:VEVENT
END:VCALENDAR