BEGIN:VCALENDAR
VERSION:2.0
PRODID:www.localdojo.com
BEGIN:VEVENT
UID:69e62a650a8ae
DTSTART;TZID=Europe/Prague:20260427T130000
SEQUENCE:0
TRANSP:OPAQUE
DTEND;TZID=Europe/Prague:20260427T150000
URL:https://www.localdojo.com/cz/judo-bivoj
LOCATION:Kuncova 1580\, Praha 13\, 155 00\, Czech Republic
X-APPLE-STRUCTURED-LOCATION;VALUE=URI;X-ADDRESS="Kuncova 1580, Praha 13, 15
 5 00, Czech Republic";X-APPLE-RADIUS=49;X-TITLE=Judo Bivoj:geo:50.050569,1
 4.312922
GEO:50.050569;14.312922
SUMMARY:Judo Bivoj - Školní judo
CLASS:PUBLIC
DESCRIPTION:Školní judo
RRULE:FREQ=WEEKLY;INTERVAL=1
DTSTAMP:20260420T133013Z
END:VEVENT
END:VCALENDAR