BEGIN:VCALENDAR
VERSION:2.0
PRODID:www.localdojo.com
BEGIN:VEVENT
UID:69e588c2b1a8e
DTSTART;TZID=Europe/Bratislava:20260427T180000
SEQUENCE:0
TRANSP:OPAQUE
DTEND;TZID=Europe/Bratislava:20260427T193000
URL:https://www.localdojo.com/cz/judo-hranice-z-s
LOCATION:Teplice nad Bečvou 95\, Teplice nad Bečvou\, 753 51\, Czech Repu
 blic
X-APPLE-STRUCTURED-LOCATION;VALUE=URI;X-ADDRESS="Teplice nad Bečvou 95, Te
 plice nad Bečvou, 753 51, Czech Republic";X-APPLE-RADIUS=49;X-TITLE=JUDO 
 HRANICE z.s.:geo:49.528371,17.740993
GEO:49.528371;17.740993
SUMMARY:JUDO HRANICE z.s. - závodníci mladší a starší žáci
CLASS:PUBLIC
DESCRIPTION:závodníci mladší a starší žáci
RRULE:FREQ=WEEKLY;INTERVAL=1
DTSTAMP:20260420T020034Z
END:VEVENT
END:VCALENDAR