BEGIN:VCALENDAR
VERSION:2.0
PRODID:www.localdojo.com
BEGIN:VEVENT
UID:69e4dc489d6eb
DTSTART;TZID=Europe/Vienna:20260420T170000
SEQUENCE:0
TRANSP:OPAQUE
DTEND;TZID=Europe/Vienna:20260420T190000
URL:https://www.localdojo.com/cz/judo-kata-brno
LOCATION:Holzova 1\, Brno - Líšeň\, 628 00\, Czech Republic
X-APPLE-STRUCTURED-LOCATION;VALUE=URI;X-ADDRESS="Holzova 1, Brno - Líšeň
 , 628 00, Czech Republic";X-APPLE-RADIUS=49;X-TITLE=Judo Kata Brno:geo:49.
 202042,16.694666
GEO:49.202042;16.694666
SUMMARY:Judo Kata Brno - společný trénink
CLASS:PUBLIC
DESCRIPTION:společný trénink
RRULE:FREQ=WEEKLY;INTERVAL=1
DTSTAMP:20260419T134440Z
END:VEVENT
END:VCALENDAR