BEGIN:VCALENDAR
VERSION:2.0
PRODID:www.localdojo.com
BEGIN:VEVENT
UID:69e639add499c
DTSTART;TZID=Europe/Prague:20260424T160000
SEQUENCE:0
TRANSP:OPAQUE
DTEND;TZID=Europe/Prague:20260424T170000
URL:https://www.localdojo.com/cz/judo-klatovy
LOCATION:Plánická 194\, Klatovy\, 339 01\, Czech Republic
X-APPLE-STRUCTURED-LOCATION;VALUE=URI;X-ADDRESS="Plánická 194, Klatovy, 3
 39 01, Czech Republic";X-APPLE-RADIUS=49;X-TITLE=Judo Klatovy:geo:49.39454
 9,13.296743
GEO:49.394549;13.296743
SUMMARY:Judo Klatovy - přípravka a mláďata
CLASS:PUBLIC
DESCRIPTION:přípravka a mláďata
RRULE:FREQ=WEEKLY;INTERVAL=1
DTSTAMP:20260420T143525Z
END:VEVENT
END:VCALENDAR