BEGIN:VCALENDAR
VERSION:2.0
PRODID:www.localdojo.com
BEGIN:VEVENT
UID:69e5cc5d684b0
DTSTART;TZID=Europe/Prague:20260423T173000
SEQUENCE:0
TRANSP:OPAQUE
DTEND;TZID=Europe/Prague:20260423T183000
URL:https://www.localdojo.com/cz/judo-klub-slany
LOCATION:Politických vězňů 777\, Slaný\, 274 01\, Czech Republic
X-APPLE-STRUCTURED-LOCATION;VALUE=URI;X-ADDRESS="Politických vězňů 777,
  Slaný, 274 01, Czech Republic";X-APPLE-RADIUS=49;X-TITLE=Judo klub Slan
 ý:geo:50.236055,14.086875
GEO:50.236055;14.086875
SUMMARY:Judo klub Slaný
CLASS:PUBLIC
RRULE:FREQ=WEEKLY;INTERVAL=1
DTSTAMP:20260420T064901Z
END:VEVENT
END:VCALENDAR