BEGIN:VCALENDAR
VERSION:2.0
PRODID:www.localdojo.com
BEGIN:VEVENT
UID:69e5cf8891f01
DTSTART;TZID=Europe/Prague:20260423T170000
SEQUENCE:0
TRANSP:OPAQUE
DTEND;TZID=Europe/Prague:20260423T190000
URL:https://www.localdojo.com/cz/judo-neratovice
LOCATION:Masarykova 450\, Neratovice\, 277 11\, Czech Republic
X-APPLE-STRUCTURED-LOCATION;VALUE=URI;X-ADDRESS="Masarykova 450, Neratovice
 , 277 11, Czech Republic";X-APPLE-RADIUS=49;X-TITLE=JUDO Neratovice:geo:50
 .260405,14.518812
GEO:50.260405;14.518812
SUMMARY:JUDO Neratovice - všechny děti - Dům dětí a mládeže\,18:00\,
 19:30\,pokročilí a dospělí
CLASS:PUBLIC
DESCRIPTION:všechny děti - Dům dětí a mládeže\,18:00\,19:30\,pokroč
 ilí a dospělí
RRULE:FREQ=WEEKLY;INTERVAL=1
DTSTAMP:20260420T070232Z
END:VEVENT
END:VCALENDAR