BEGIN:VCALENDAR
VERSION:2.0
PRODID:www.localdojo.com
BEGIN:VEVENT
UID:69e575c0c1407
DTSTART;TZID=Europe/Prague:20260427T183000
SEQUENCE:0
TRANSP:OPAQUE
DTEND;TZID=Europe/Prague:20260427T200000
URL:https://www.localdojo.com/cz/judo-orel-blucina
LOCATION:Za Kostelem 322\, Opatovice\, 664 61\, Czech Republic
SUMMARY:Judo Orel Blučina - dorostenci
CLASS:PUBLIC
DESCRIPTION:dorostenci
RRULE:FREQ=WEEKLY;INTERVAL=1
DTSTAMP:20260420T003928Z
END:VEVENT
END:VCALENDAR