BEGIN:VCALENDAR
VERSION:2.0
PRODID:www.localdojo.com
BEGIN:VEVENT
UID:69e63dd81d4c5
DTSTART;TZID=Europe/Prague:20260421T163000
SEQUENCE:0
TRANSP:OPAQUE
DTEND;TZID=Europe/Prague:20260421T172500
URL:https://www.localdojo.com/cz/judo-orel-blucina
LOCATION:Za Kostelem 322\, Opatovice\, 664 61\, Czech Republic
SUMMARY:Judo Orel Blučina - mláďata
CLASS:PUBLIC
DESCRIPTION:mláďata
RRULE:FREQ=WEEKLY;INTERVAL=1
DTSTAMP:20260420T145312Z
END:VEVENT
END:VCALENDAR