BEGIN:VCALENDAR
VERSION:2.0
PRODID:www.localdojo.com
BEGIN:VEVENT
UID:69e65128b4c8f
DTSTART;TZID=Europe/Prague:20260422T153000
SEQUENCE:0
TRANSP:OPAQUE
DTEND;TZID=Europe/Prague:20260422T162500
URL:https://www.localdojo.com/cz/judo-orel-blucina
LOCATION:Za Kostelem 322\, Opatovice\, 664 61\, Czech Republic
SUMMARY:Judo Orel Blučina - sportovní přípravka
CLASS:PUBLIC
DESCRIPTION:sportovní přípravka
RRULE:FREQ=WEEKLY;INTERVAL=1
DTSTAMP:20260420T161536Z
END:VEVENT
END:VCALENDAR