BEGIN:VCALENDAR
VERSION:2.0
PRODID:www.localdojo.com
BEGIN:VEVENT
UID:69e5bd9c882e7
DTSTART;TZID=Europe/Prague:20260423T153000
SEQUENCE:0
TRANSP:OPAQUE
DTEND;TZID=Europe/Prague:20260423T163000
URL:https://www.localdojo.com/cz/judo4fun-z-s
LOCATION:nám. Curieových 886/2\, Praha \, 110 00\, Czech Republic
X-APPLE-STRUCTURED-LOCATION;VALUE=URI;X-ADDRESS="nám. Curieových 886/2, P
 raha , 110 00, Czech Republic";X-APPLE-RADIUS=49;X-TITLE=JUDO4FUN z.s.:geo
 :50.091899,14.419784
GEO:50.091899;14.419784
SUMMARY:JUDO4FUN z.s. - pokročilí ZŠ NUČICE
CLASS:PUBLIC
DESCRIPTION:pokročilí ZŠ NUČICE
RRULE:FREQ=WEEKLY;INTERVAL=1
DTSTAMP:20260420T054604Z
END:VEVENT
END:VCALENDAR