BEGIN:VCALENDAR
VERSION:2.0
PRODID:www.localdojo.com
BEGIN:VEVENT
UID:69e5b1195e5fd
DTSTART;TZID=Europe/Prague:20260421T160000
SEQUENCE:0
TRANSP:OPAQUE
DTEND;TZID=Europe/Prague:20260421T170000
URL:https://www.localdojo.com/cz/judoclub-klatovy
LOCATION:Národních mučedníků 347\, Klatovy IV\, 339 01\, Czech Republi
 c
X-APPLE-STRUCTURED-LOCATION;VALUE=URI;X-ADDRESS="Národních mučedníků 3
 47, Klatovy IV, 339 01, Czech Republic";X-APPLE-RADIUS=49;X-TITLE=Judoclub
  Klatovy:geo:49.391390,13.299016
GEO:49.391390;13.299016
SUMMARY:Judoclub Klatovy - přípravka
CLASS:PUBLIC
DESCRIPTION:přípravka
RRULE:FREQ=WEEKLY;INTERVAL=1
DTSTAMP:20260420T045241Z
END:VEVENT
END:VCALENDAR