BEGIN:VCALENDAR
VERSION:2.0
PRODID:www.localdojo.com
BEGIN:VEVENT
UID:69e613c8a8bc4
DTSTART;TZID=Europe/Prague:20260422T100000
SEQUENCE:0
TRANSP:OPAQUE
DTEND;TZID=Europe/Prague:20260422T113000
URL:https://www.localdojo.com/cz/judoclub-liberec
LOCATION:Jeronýmova 570/22\, Liberec\, 460 07\, Czech Republic
X-APPLE-STRUCTURED-LOCATION;VALUE=URI;X-ADDRESS="Jeronýmova 570/22, Libere
 c, 460 07, Czech Republic";X-APPLE-RADIUS=49;X-TITLE=Judoclub Liberec:geo:
 50.753956,15.048129
GEO:50.753956;15.048129
SUMMARY:Judoclub Liberec - judon na ZŠ
CLASS:PUBLIC
DESCRIPTION:judon na ZŠ
RRULE:FREQ=WEEKLY;INTERVAL=1
DTSTAMP:20260420T115344Z
END:VEVENT
END:VCALENDAR