BEGIN:VCALENDAR
VERSION:2.0
PRODID:www.localdojo.com
BEGIN:VEVENT
UID:69e535f3d952e
DTSTART;TZID=Europe/Bratislava:20260422T153000
SEQUENCE:0
TRANSP:OPAQUE
DTEND;TZID=Europe/Bratislava:20260422T163000
URL:https://www.localdojo.com/cz/judoklub-olomouc
LOCATION:Na Střelnici 39\, Olomouc\, 779 00\, Czech Republic
X-APPLE-STRUCTURED-LOCATION;VALUE=URI;X-ADDRESS="Na Střelnici 39, Olomouc,
  779 00, Czech Republic";X-APPLE-RADIUS=49;X-TITLE=Judoklub Olomouc:geo:49
 .600958,17.248166
GEO:49.600958;17.248166
SUMMARY:Judoklub Olomouc - benjaminci začátečníci - čajkovského
CLASS:PUBLIC
DESCRIPTION:benjaminci začátečníci - čajkovského
RRULE:FREQ=WEEKLY;INTERVAL=1
DTSTAMP:20260419T200715Z
END:VEVENT
END:VCALENDAR