BEGIN:VCALENDAR
VERSION:2.0
PRODID:www.localdojo.com
BEGIN:VEVENT
UID:69e6a0059187f
DTSTART;TZID=Europe/Prague:20260427T160000
SEQUENCE:0
TRANSP:OPAQUE
DTEND;TZID=Europe/Prague:20260427T170000
URL:https://www.localdojo.com/cz/judoklub-pardubice
LOCATION:Na staré poště\, Pardubice\, 530 02\, Czech Republic
SUMMARY:Judoklub Pardubice - přípravka
CLASS:PUBLIC
DESCRIPTION:přípravka
RRULE:FREQ=WEEKLY;INTERVAL=1
DTSTAMP:20260420T215205Z
END:VEVENT
END:VCALENDAR