BEGIN:VCALENDAR
VERSION:2.0
PRODID:www.localdojo.com
BEGIN:VEVENT
UID:69e6a000eadf0
DTSTART;TZID=Europe/Prague:20260421T160000
SEQUENCE:0
TRANSP:OPAQUE
DTEND;TZID=Europe/Prague:20260421T173000
URL:https://www.localdojo.com/cz/judoklub-pardubice
LOCATION:Na staré poště\, Pardubice\, 530 02\, Czech Republic
SUMMARY:Judoklub Pardubice - žáci B
CLASS:PUBLIC
DESCRIPTION:žáci B
RRULE:FREQ=WEEKLY;INTERVAL=1
DTSTAMP:20260420T215200Z
END:VEVENT
END:VCALENDAR