BEGIN:VCALENDAR
VERSION:2.0
PRODID:www.localdojo.com
BEGIN:VEVENT
UID:69e6992454b5d
DTSTART;TZID=Europe/Prague:20260421T173000
SEQUENCE:0
TRANSP:OPAQUE
DTEND;TZID=Europe/Prague:20260421T190000
URL:https://www.localdojo.com/cz/judoklub-pardubice
LOCATION:Na staré poště\, Pardubice\, 530 02\, Czech Republic
SUMMARY:Judoklub Pardubice - žáci A
CLASS:PUBLIC
DESCRIPTION:žáci A
RRULE:FREQ=WEEKLY;INTERVAL=1
DTSTAMP:20260420T212244Z
END:VEVENT
END:VCALENDAR