BEGIN:VCALENDAR
VERSION:2.0
PRODID:www.localdojo.com
BEGIN:VEVENT
UID:69e69919c8aec
DTSTART;TZID=Europe/Prague:20260421T193000
SEQUENCE:0
TRANSP:OPAQUE
DTEND;TZID=Europe/Prague:20260421T200000
URL:https://www.localdojo.com/cz/judoklub-pardubice
LOCATION:Na staré poště\, Pardubice\, 530 02\, Czech Republic
SUMMARY:Judoklub Pardubice - aikido
CLASS:PUBLIC
DESCRIPTION:aikido
RRULE:FREQ=WEEKLY;INTERVAL=1
DTSTAMP:20260420T212233Z
END:VEVENT
END:VCALENDAR