BEGIN:VCALENDAR
VERSION:2.0
PRODID:www.localdojo.com
BEGIN:VEVENT
UID:69e588c0ada88
DTSTART;TZID=Europe/Prague:20260422T180000
SEQUENCE:0
TRANSP:OPAQUE
DTEND;TZID=Europe/Prague:20260422T193000
URL:https://www.localdojo.com/cz/karate-kyokushin
LOCATION:U Průhonu 46\, Praha 7\, 170 00\, Czech Republic
SUMMARY:Karate Kyokushin - BOHNICE - Bukolská 775 Kyokushin od. A (dosp.)
CLASS:PUBLIC
DESCRIPTION:BOHNICE - Bukolská 775 Kyokushin od. A (dosp.)
RRULE:FREQ=WEEKLY;INTERVAL=1
DTSTAMP:20260420T020032Z
END:VEVENT
END:VCALENDAR