BEGIN:VCALENDAR
VERSION:2.0
PRODID:www.localdojo.com
BEGIN:VEVENT
UID:69e4fab934754
DTSTART;TZID=Europe/Prague:20260423T173000
SEQUENCE:0
TRANSP:OPAQUE
DTEND;TZID=Europe/Prague:20260423T190000
URL:https://www.localdojo.com/cz/karate-kyokushin
LOCATION:U Průhonu 46\, Praha 7\, 170 00\, Czech Republic
SUMMARY:Karate Kyokushin - UHŘÍNĚVES - K Sokolovně 201 Pokročilí
CLASS:PUBLIC
DESCRIPTION:UHŘÍNĚVES - K Sokolovně 201 Pokročilí
RRULE:FREQ=WEEKLY;INTERVAL=1
DTSTAMP:20260419T155433Z
END:VEVENT
END:VCALENDAR