BEGIN:VCALENDAR
VERSION:2.0
PRODID:www.localdojo.com
BEGIN:VEVENT
UID:69e65ffc05c56
DTSTART;TZID=Europe/Prague:20260424T180000
SEQUENCE:0
TRANSP:OPAQUE
DTEND;TZID=Europe/Prague:20260424T193000
URL:https://www.localdojo.com/cz/karate-kyokushin
LOCATION:U Průhonu 46\, Praha 7\, 170 00\, Czech Republic
SUMMARY:Karate Kyokushin - BOHNICE - Bukolská 775 Sparing volný vstup
CLASS:PUBLIC
DESCRIPTION:BOHNICE - Bukolská 775 Sparing volný vstup
RRULE:FREQ=WEEKLY;INTERVAL=1
DTSTAMP:20260420T171852Z
END:VEVENT
END:VCALENDAR