BEGIN:VCALENDAR
VERSION:2.0
PRODID:www.localdojo.com
BEGIN:VEVENT
UID:69e4cf0a2913f
DTSTART;TZID=Europe/Prague:20260425T100000
SEQUENCE:0
TRANSP:OPAQUE
DTEND;TZID=Europe/Prague:20260425T204500
URL:https://www.localdojo.com/cz/karate-kyokushin
LOCATION:U Průhonu 46\, Praha 7\, 170 00\, Czech Republic
SUMMARY:Karate Kyokushin - VLTAVÍN - U Průhonu 46 volný vstup
CLASS:PUBLIC
DESCRIPTION:VLTAVÍN - U Průhonu 46 volný vstup
RRULE:FREQ=WEEKLY;INTERVAL=1
DTSTAMP:20260419T124810Z
END:VEVENT
END:VCALENDAR