BEGIN:VCALENDAR
VERSION:2.0
PRODID:www.localdojo.com
BEGIN:VEVENT
UID:69e586ec56172
DTSTART;TZID=Europe/Prague:20260427T200000
SEQUENCE:0
TRANSP:OPAQUE
DTEND;TZID=Europe/Prague:20260427T210000
URL:https://www.localdojo.com/cz/karate-p-klub-tabor
LOCATION:Světlogorská 2771/3\, Tábor\, 390 05\, Czech Republic
SUMMARY:Karate-P-Klub Tábor - Dospělí
CLASS:PUBLIC
DESCRIPTION:Dospělí
RRULE:FREQ=WEEKLY;INTERVAL=1
DTSTAMP:20260420T015244Z
END:VEVENT
END:VCALENDAR