BEGIN:VCALENDAR
VERSION:2.0
PRODID:www.localdojo.com
BEGIN:VEVENT
UID:69e57e5b99afb
DTSTART;TZID=Europe/Prague:20260422T160000
SEQUENCE:0
TRANSP:OPAQUE
DTEND;TZID=Europe/Prague:20260422T170000
URL:https://www.localdojo.com/cz/karate-p-klub-tabor
LOCATION:Světlogorská 2771/3\, Tábor\, 390 05\, Czech Republic
SUMMARY:Karate-P-Klub Tábor - Přípravka děti
CLASS:PUBLIC
DESCRIPTION:Přípravka děti
RRULE:FREQ=WEEKLY;INTERVAL=1
DTSTAMP:20260420T011611Z
END:VEVENT
END:VCALENDAR