BEGIN:VCALENDAR
VERSION:2.0
PRODID:www.localdojo.com
BEGIN:VEVENT
UID:69e59f954818c
DTSTART;TZID=Europe/Prague:20260424T170000
SEQUENCE:0
TRANSP:OPAQUE
DTEND;TZID=Europe/Prague:20260424T180000
URL:https://www.localdojo.com/cz/karate-p-klub-tabor
LOCATION:Světlogorská 2771/3\, Tábor\, 390 05\, Czech Republic
SUMMARY:Karate-P-Klub Tábor - C 9.-.6.kyu
CLASS:PUBLIC
DESCRIPTION:C 9.-.6.kyu
RRULE:FREQ=WEEKLY;INTERVAL=1
DTSTAMP:20260420T033757Z
END:VEVENT
END:VCALENDAR