BEGIN:VCALENDAR
VERSION:2.0
PRODID:www.localdojo.com
BEGIN:VEVENT
UID:69e5b6514f6b8
DTSTART;TZID=Europe/Prague:20260424T180000
SEQUENCE:0
TRANSP:OPAQUE
DTEND;TZID=Europe/Prague:20260424T190000
URL:https://www.localdojo.com/cz/karate-p-klub-tabor
LOCATION:Světlogorská 2771/3\, Tábor\, 390 05\, Czech Republic
SUMMARY:Karate-P-Klub Tábor - A 5.kyu-Dan
CLASS:PUBLIC
DESCRIPTION:A 5.kyu-Dan
RRULE:FREQ=WEEKLY;INTERVAL=1
DTSTAMP:20260420T051457Z
END:VEVENT
END:VCALENDAR