BEGIN:VCALENDAR
VERSION:2.0
PRODID:www.localdojo.com
BEGIN:VEVENT
UID:69e655523228f
DTSTART;TZID=Europe/Prague:20260427T180000
SEQUENCE:0
TRANSP:OPAQUE
DTEND;TZID=Europe/Prague:20260427T200000
URL:https://www.localdojo.com/cz/ltc-zbraslav
LOCATION:Nad parkem 1180\, Praha\, 156 00\, Czech Republic
X-APPLE-STRUCTURED-LOCATION;VALUE=URI;X-ADDRESS="Nad parkem 1180, Praha, 15
 6 00, Czech Republic";X-APPLE-RADIUS=49;X-TITLE=LTC Zbraslav:geo:49.966094
 ,14.389533
GEO:49.966094;14.389533
SUMMARY:LTC Zbraslav
CLASS:PUBLIC
RRULE:FREQ=WEEKLY;INTERVAL=1
DTSTAMP:20260420T163322Z
END:VEVENT
END:VCALENDAR