BEGIN:VCALENDAR
VERSION:2.0
PRODID:www.localdojo.com
BEGIN:VEVENT
UID:69e618ed0b8bc
DTSTART;TZID=Europe/Prague:20260424T183000
SEQUENCE:0
TRANSP:OPAQUE
DTEND;TZID=Europe/Prague:20260424T200000
URL:https://www.localdojo.com/cz/matsu-dojo-jaromer
LOCATION:Dukelských hrdinů 240\, Jaroměř\, 551 01\, Czech Republic
X-APPLE-STRUCTURED-LOCATION;VALUE=URI;X-ADDRESS="Dukelských hrdinů 240, J
 aroměř, 551 01, Czech Republic";X-APPLE-RADIUS=49;X-TITLE=Matsu Dojo Jar
 oměř:geo:50.352747,15.918413
GEO:50.352747;15.918413
SUMMARY:Matsu Dojo Jaroměř - Trénink dospělých
CLASS:PUBLIC
DESCRIPTION:Trénink dospělých
RRULE:FREQ=WEEKLY;INTERVAL=1
DTSTAMP:20260420T121541Z
END:VEVENT
END:VCALENDAR