BEGIN:VCALENDAR
VERSION:2.0
PRODID:www.localdojo.com
BEGIN:VEVENT
UID:69e62a3ee9784
DTSTART;TZID=Europe/Prague:20260424T170000
SEQUENCE:0
TRANSP:OPAQUE
DTEND;TZID=Europe/Prague:20260424T180000
URL:https://www.localdojo.com/cz/msk-judo-karvina
LOCATION:Prameny 838/10\, Karviná - Ráj\, 734 01\, Czech Republic
SUMMARY:MSK Judo Karviná
CLASS:PUBLIC
RRULE:FREQ=WEEKLY;INTERVAL=1
DTSTAMP:20260420T132934Z
END:VEVENT
END:VCALENDAR